BEGIN:VCALENDAR
VERSION:2.0
PRODID:-//De Tafel der Lage Landen - ECPv6.15.20//NONSGML v1.0//EN
CALSCALE:GREGORIAN
METHOD:PUBLISH
X-ORIGINAL-URL:https://www.detafelderlagelanden.nl
X-WR-CALDESC:Evenementen voor De Tafel der Lage Landen
REFRESH-INTERVAL;VALUE=DURATION:PT1H
X-Robots-Tag:noindex
X-PUBLISHED-TTL:PT1H
BEGIN:VTIMEZONE
TZID:Europe/Paris
BEGIN:DAYLIGHT
TZOFFSETFROM:+0100
TZOFFSETTO:+0200
TZNAME:CEST
DTSTART:20230326T010000
END:DAYLIGHT
BEGIN:STANDARD
TZOFFSETFROM:+0200
TZOFFSETTO:+0100
TZNAME:CET
DTSTART:20231029T010000
END:STANDARD
BEGIN:DAYLIGHT
TZOFFSETFROM:+0100
TZOFFSETTO:+0200
TZNAME:CEST
DTSTART:20240331T010000
END:DAYLIGHT
BEGIN:STANDARD
TZOFFSETFROM:+0200
TZOFFSETTO:+0100
TZNAME:CET
DTSTART:20241027T010000
END:STANDARD
BEGIN:DAYLIGHT
TZOFFSETFROM:+0100
TZOFFSETTO:+0200
TZNAME:CEST
DTSTART:20250330T010000
END:DAYLIGHT
BEGIN:STANDARD
TZOFFSETFROM:+0200
TZOFFSETTO:+0100
TZNAME:CET
DTSTART:20251026T010000
END:STANDARD
END:VTIMEZONE
BEGIN:VEVENT
DTSTART;TZID=Europe/Paris:20241101T180000
DTEND;TZID=Europe/Paris:20241101T220000
DTSTAMP:20260424T025009
CREATED:20240920T132247Z
LAST-MODIFIED:20240920T132247Z
UID:2460-1730484000-1730498400@www.detafelderlagelanden.nl
SUMMARY:Tafel op Vrijdag
DESCRIPTION:
URL:https://www.detafelderlagelanden.nl/events/tafel-op-vrijdag-17/
LOCATION:De Tafel der Lage Landen\, Drentsestraat 107\, 3812 EH Amersfoort\, Let op! Drentsestraat is vergunningparkeren!\, Netherlands
CATEGORIES:Tafel op Vrijdag
ORGANIZER;CN="Claudette Paelinck":MAILTO:info@detafelderlagelanden.nl
END:VEVENT
BEGIN:VEVENT
DTSTART;TZID=Europe/Paris:20241115T180000
DTEND;TZID=Europe/Paris:20241115T220000
DTSTAMP:20260424T025009
CREATED:20240920T120943Z
LAST-MODIFIED:20240920T120943Z
UID:2448-1731693600-1731708000@www.detafelderlagelanden.nl
SUMMARY:Tafel op Vrijdag
DESCRIPTION:
URL:https://www.detafelderlagelanden.nl/events/tafel-op-vrijdag-15/
LOCATION:De Tafel der Lage Landen\, Drentsestraat 107\, 3812 EH Amersfoort\, Let op! Drentsestraat is vergunningparkeren!\, Netherlands
CATEGORIES:Tafel op Vrijdag
ORGANIZER;CN="Claudette Paelinck":MAILTO:info@detafelderlagelanden.nl
END:VEVENT
BEGIN:VEVENT
DTSTART;TZID=Europe/Paris:20241122T180000
DTEND;TZID=Europe/Paris:20241122T220000
DTSTAMP:20260424T025009
CREATED:20240920T121044Z
LAST-MODIFIED:20240920T121044Z
UID:2450-1732298400-1732312800@www.detafelderlagelanden.nl
SUMMARY:Tafel op Vrijdag
DESCRIPTION:
URL:https://www.detafelderlagelanden.nl/events/tafel-op-vrijdag-16/
LOCATION:De Tafel der Lage Landen\, Drentsestraat 107\, 3812 EH Amersfoort\, Let op! Drentsestraat is vergunningparkeren!\, Netherlands
CATEGORIES:Tafel op Vrijdag
ORGANIZER;CN="Claudette Paelinck":MAILTO:info@detafelderlagelanden.nl
END:VEVENT
END:VCALENDAR