BEGIN:VCALENDAR
VERSION:2.0
PRODID:-//De Tafel der Lage Landen - ECPv6.15.20//NONSGML v1.0//EN
CALSCALE:GREGORIAN
METHOD:PUBLISH
X-ORIGINAL-URL:https://www.detafelderlagelanden.nl
X-WR-CALDESC:Evenementen voor De Tafel der Lage Landen
REFRESH-INTERVAL;VALUE=DURATION:PT1H
X-Robots-Tag:noindex
X-PUBLISHED-TTL:PT1H
BEGIN:VTIMEZONE
TZID:Europe/Paris
BEGIN:DAYLIGHT
TZOFFSETFROM:+0100
TZOFFSETTO:+0200
TZNAME:CEST
DTSTART:20240331T010000
END:DAYLIGHT
BEGIN:STANDARD
TZOFFSETFROM:+0200
TZOFFSETTO:+0100
TZNAME:CET
DTSTART:20241027T010000
END:STANDARD
BEGIN:DAYLIGHT
TZOFFSETFROM:+0100
TZOFFSETTO:+0200
TZNAME:CEST
DTSTART:20250330T010000
END:DAYLIGHT
BEGIN:STANDARD
TZOFFSETFROM:+0200
TZOFFSETTO:+0100
TZNAME:CET
DTSTART:20251026T010000
END:STANDARD
BEGIN:DAYLIGHT
TZOFFSETFROM:+0100
TZOFFSETTO:+0200
TZNAME:CEST
DTSTART:20260329T010000
END:DAYLIGHT
BEGIN:STANDARD
TZOFFSETFROM:+0200
TZOFFSETTO:+0100
TZNAME:CET
DTSTART:20261025T010000
END:STANDARD
END:VTIMEZONE
BEGIN:VEVENT
DTSTART;TZID=Europe/Paris:20250307T183000
DTEND;TZID=Europe/Paris:20250307T220000
DTSTAMP:20260423T031241
CREATED:20250108T162346Z
LAST-MODIFIED:20250114T134620Z
UID:2601-1741372200-1741384800@www.detafelderlagelanden.nl
SUMMARY:Tafel op Vrijdag (vol)
DESCRIPTION:
URL:https://www.detafelderlagelanden.nl/events/tafel-p-vrijdag/
LOCATION:De Tafel der Lage Landen\, Drentsestraat 107\, 3812 EH Amersfoort\, Let op! Drentsestraat is vergunningparkeren!\, Netherlands
CATEGORIES:Tafel op Vrijdag
ORGANIZER;CN="Claudette Paelinck":MAILTO:info@detafelderlagelanden.nl
END:VEVENT
BEGIN:VEVENT
DTSTART;TZID=Europe/Paris:20250314T183000
DTEND;TZID=Europe/Paris:20250314T220000
DTSTAMP:20260423T031241
CREATED:20250108T162454Z
LAST-MODIFIED:20250108T172408Z
UID:2603-1741977000-1741989600@www.detafelderlagelanden.nl
SUMMARY:Tafel op Vrijdag
DESCRIPTION:
URL:https://www.detafelderlagelanden.nl/events/tafel-op-vrijdag-20/
LOCATION:De Tafel der Lage Landen\, Drentsestraat 107\, 3812 EH Amersfoort\, Let op! Drentsestraat is vergunningparkeren!\, Netherlands
CATEGORIES:Tafel op Vrijdag
ORGANIZER;CN="Claudette Paelinck":MAILTO:info@detafelderlagelanden.nl
END:VEVENT
BEGIN:VEVENT
DTSTART;TZID=Europe/Paris:20250321T183000
DTEND;TZID=Europe/Paris:20250321T220000
DTSTAMP:20260423T031241
CREATED:20250108T162729Z
LAST-MODIFIED:20250108T172511Z
UID:2606-1742581800-1742594400@www.detafelderlagelanden.nl
SUMMARY:Tafel op Vrijdag
DESCRIPTION:
URL:https://www.detafelderlagelanden.nl/events/tafel-op-vrijdag-21/
LOCATION:De Tafel der Lage Landen\, Drentsestraat 107\, 3812 EH Amersfoort\, Let op! Drentsestraat is vergunningparkeren!\, Netherlands
CATEGORIES:Tafel op Vrijdag
ORGANIZER;CN="Claudette Paelinck":MAILTO:info@detafelderlagelanden.nl
END:VEVENT
BEGIN:VEVENT
DTSTART;TZID=Europe/Paris:20250328T183000
DTEND;TZID=Europe/Paris:20250328T220000
DTSTAMP:20260423T031241
CREATED:20250108T162834Z
LAST-MODIFIED:20250108T172538Z
UID:2608-1743186600-1743199200@www.detafelderlagelanden.nl
SUMMARY:Tafel op Vrijdag
DESCRIPTION:
URL:https://www.detafelderlagelanden.nl/events/tafel-op-vrijdag-22/
LOCATION:De Tafel der Lage Landen\, Drentsestraat 107\, 3812 EH Amersfoort\, Let op! Drentsestraat is vergunningparkeren!\, Netherlands
CATEGORIES:Tafel op Vrijdag
ORGANIZER;CN="Claudette Paelinck":MAILTO:info@detafelderlagelanden.nl
END:VEVENT
END:VCALENDAR