BEGIN:VCALENDAR
VERSION:2.0
PRODID:-//De Tafel der Lage Landen - ECPv6.15.20//NONSGML v1.0//EN
CALSCALE:GREGORIAN
METHOD:PUBLISH
X-WR-CALNAME:De Tafel der Lage Landen
X-ORIGINAL-URL:https://www.detafelderlagelanden.nl
X-WR-CALDESC:Evenementen voor De Tafel der Lage Landen
REFRESH-INTERVAL;VALUE=DURATION:PT1H
X-Robots-Tag:noindex
X-PUBLISHED-TTL:PT1H
BEGIN:VTIMEZONE
TZID:Europe/Paris
BEGIN:DAYLIGHT
TZOFFSETFROM:+0100
TZOFFSETTO:+0200
TZNAME:CEST
DTSTART:20240331T010000
END:DAYLIGHT
BEGIN:STANDARD
TZOFFSETFROM:+0200
TZOFFSETTO:+0100
TZNAME:CET
DTSTART:20241027T010000
END:STANDARD
BEGIN:DAYLIGHT
TZOFFSETFROM:+0100
TZOFFSETTO:+0200
TZNAME:CEST
DTSTART:20250330T010000
END:DAYLIGHT
BEGIN:STANDARD
TZOFFSETFROM:+0200
TZOFFSETTO:+0100
TZNAME:CET
DTSTART:20251026T010000
END:STANDARD
BEGIN:DAYLIGHT
TZOFFSETFROM:+0100
TZOFFSETTO:+0200
TZNAME:CEST
DTSTART:20260329T010000
END:DAYLIGHT
BEGIN:STANDARD
TZOFFSETFROM:+0200
TZOFFSETTO:+0100
TZNAME:CET
DTSTART:20261025T010000
END:STANDARD
END:VTIMEZONE
BEGIN:VEVENT
DTSTART;TZID=Europe/Paris:20250502T183000
DTEND;TZID=Europe/Paris:20250502T220000
DTSTAMP:20260422T114623
CREATED:20250108T163251Z
LAST-MODIFIED:20250108T172809Z
UID:2613-1746210600-1746223200@www.detafelderlagelanden.nl
SUMMARY:Tafel op Vrijdag
DESCRIPTION:
URL:https://www.detafelderlagelanden.nl/events/tafel-op-vrijdag-24/
LOCATION:De Tafel der Lage Landen\, Drentsestraat 107\, 3812 EH Amersfoort\, Let op! Drentsestraat is vergunningparkeren!\, Netherlands
CATEGORIES:Tafel op Vrijdag
ORGANIZER;CN="Claudette Paelinck":MAILTO:info@detafelderlagelanden.nl
END:VEVENT
BEGIN:VEVENT
DTSTART;TZID=Europe/Paris:20250516T183000
DTEND;TZID=Europe/Paris:20250516T220000
DTSTAMP:20260422T114623
CREATED:20250108T163352Z
LAST-MODIFIED:20250513T173147Z
UID:2615-1747420200-1747432800@www.detafelderlagelanden.nl
SUMMARY:Tafel op Vrijdag (vol)
DESCRIPTION:
URL:https://www.detafelderlagelanden.nl/events/tafel-op-vrijdag-25/
LOCATION:De Tafel der Lage Landen\, Drentsestraat 107\, 3812 EH Amersfoort\, Let op! Drentsestraat is vergunningparkeren!\, Netherlands
CATEGORIES:Tafel op Vrijdag
ORGANIZER;CN="Claudette Paelinck":MAILTO:info@detafelderlagelanden.nl
END:VEVENT
BEGIN:VEVENT
DTSTART;TZID=Europe/Paris:20250523T183000
DTEND;TZID=Europe/Paris:20250523T220000
DTSTAMP:20260422T114623
CREATED:20250108T163441Z
LAST-MODIFIED:20250108T173025Z
UID:2617-1748025000-1748037600@www.detafelderlagelanden.nl
SUMMARY:Tafel op Vrijdag
DESCRIPTION:
URL:https://www.detafelderlagelanden.nl/events/tafel-op-vrijdag-26/
LOCATION:De Tafel der Lage Landen\, Drentsestraat 107\, 3812 EH Amersfoort\, Let op! Drentsestraat is vergunningparkeren!\, Netherlands
CATEGORIES:Tafel op Vrijdag
ORGANIZER;CN="Claudette Paelinck":MAILTO:info@detafelderlagelanden.nl
END:VEVENT
END:VCALENDAR