BEGIN:VCALENDAR
VERSION:2.0
PRODID:-//De Tafel der Lage Landen - ECPv6.15.20//NONSGML v1.0//EN
CALSCALE:GREGORIAN
METHOD:PUBLISH
X-ORIGINAL-URL:https://www.detafelderlagelanden.nl
X-WR-CALDESC:Evenementen voor De Tafel der Lage Landen
REFRESH-INTERVAL;VALUE=DURATION:PT1H
X-Robots-Tag:noindex
X-PUBLISHED-TTL:PT1H
BEGIN:VTIMEZONE
TZID:Europe/Paris
BEGIN:DAYLIGHT
TZOFFSETFROM:+0100
TZOFFSETTO:+0200
TZNAME:CEST
DTSTART:20230326T010000
END:DAYLIGHT
BEGIN:STANDARD
TZOFFSETFROM:+0200
TZOFFSETTO:+0100
TZNAME:CET
DTSTART:20231029T010000
END:STANDARD
BEGIN:DAYLIGHT
TZOFFSETFROM:+0100
TZOFFSETTO:+0200
TZNAME:CEST
DTSTART:20240331T010000
END:DAYLIGHT
BEGIN:STANDARD
TZOFFSETFROM:+0200
TZOFFSETTO:+0100
TZNAME:CET
DTSTART:20241027T010000
END:STANDARD
BEGIN:DAYLIGHT
TZOFFSETFROM:+0100
TZOFFSETTO:+0200
TZNAME:CEST
DTSTART:20250330T010000
END:DAYLIGHT
BEGIN:STANDARD
TZOFFSETFROM:+0200
TZOFFSETTO:+0100
TZNAME:CET
DTSTART:20251026T010000
END:STANDARD
BEGIN:DAYLIGHT
TZOFFSETFROM:+0100
TZOFFSETTO:+0200
TZNAME:CEST
DTSTART:20260329T010000
END:DAYLIGHT
BEGIN:STANDARD
TZOFFSETFROM:+0200
TZOFFSETTO:+0100
TZNAME:CET
DTSTART:20261025T010000
END:STANDARD
END:VTIMEZONE
BEGIN:VEVENT
DTSTART;TZID=Europe/Paris:20240315T183000
DTEND;TZID=Europe/Paris:20240315T220000
DTSTAMP:20260424T183521
CREATED:20240120T141414Z
LAST-MODIFIED:20240304T140740Z
UID:2051-1710527400-1710540000@www.detafelderlagelanden.nl
SUMMARY:Tafel op Vrijdag
DESCRIPTION:
URL:https://www.detafelderlagelanden.nl/events/tafel-op-vrijdag/
LOCATION:De Tafel der Lage Landen\, Drentsestraat 107\, 3812 EH Amersfoort\, Let op! Drentsestraat is vergunningparkeren!\, Netherlands
CATEGORIES:Tafel op Vrijdag
ORGANIZER;CN="Claudette Paelinck":MAILTO:info@detafelderlagelanden.nl
END:VEVENT
BEGIN:VEVENT
DTSTART;TZID=Europe/Paris:20240405T183000
DTEND;TZID=Europe/Paris:20240405T220000
DTSTAMP:20260424T183521
CREATED:20240120T142922Z
LAST-MODIFIED:20240304T140807Z
UID:2055-1712341800-1712354400@www.detafelderlagelanden.nl
SUMMARY:Tafel op Vrijdag
DESCRIPTION:
URL:https://www.detafelderlagelanden.nl/events/tafel-op-vrijdag-2/
LOCATION:De Tafel der Lage Landen\, Drentsestraat 107\, 3812 EH Amersfoort\, Let op! Drentsestraat is vergunningparkeren!\, Netherlands
CATEGORIES:Tafel op Vrijdag
ORGANIZER;CN="Claudette Paelinck":MAILTO:info@detafelderlagelanden.nl
END:VEVENT
BEGIN:VEVENT
DTSTART;TZID=Europe/Paris:20240503T183000
DTEND;TZID=Europe/Paris:20240503T220000
DTSTAMP:20260424T183521
CREATED:20240304T132802Z
LAST-MODIFIED:20240304T140908Z
UID:2195-1714761000-1714773600@www.detafelderlagelanden.nl
SUMMARY:Tafel op Vrijdag
DESCRIPTION:
URL:https://www.detafelderlagelanden.nl/events/tafel-op-vrijdag-3/
LOCATION:De Tafel der Lage Landen\, Drentsestraat 107\, 3812 EH Amersfoort\, Let op! Drentsestraat is vergunningparkeren!\, Netherlands
CATEGORIES:Tafel op Vrijdag
ORGANIZER;CN="Claudette Paelinck":MAILTO:info@detafelderlagelanden.nl
END:VEVENT
BEGIN:VEVENT
DTSTART;TZID=Europe/Paris:20240510T183000
DTEND;TZID=Europe/Paris:20240510T220000
DTSTAMP:20260424T183521
CREATED:20240304T135411Z
LAST-MODIFIED:20240304T140937Z
UID:2199-1715365800-1715378400@www.detafelderlagelanden.nl
SUMMARY:Tafel op Vrijdag
DESCRIPTION:
URL:https://www.detafelderlagelanden.nl/events/tafel-op-vrijdag-4/
LOCATION:De Tafel der Lage Landen\, Drentsestraat 107\, 3812 EH Amersfoort\, Let op! Drentsestraat is vergunningparkeren!\, Netherlands
CATEGORIES:Tafel op Vrijdag
ORGANIZER;CN="Claudette Paelinck":MAILTO:info@detafelderlagelanden.nl
END:VEVENT
BEGIN:VEVENT
DTSTART;TZID=Europe/Paris:20240517T183000
DTEND;TZID=Europe/Paris:20240517T220000
DTSTAMP:20260424T183521
CREATED:20240304T140019Z
LAST-MODIFIED:20240304T140959Z
UID:2202-1715970600-1715983200@www.detafelderlagelanden.nl
SUMMARY:Tafel op Vrijdag
DESCRIPTION:
URL:https://www.detafelderlagelanden.nl/events/tafel-op-vrijdag-5/
LOCATION:De Tafel der Lage Landen\, Drentsestraat 107\, 3812 EH Amersfoort\, Let op! Drentsestraat is vergunningparkeren!\, Netherlands
CATEGORIES:Tafel op Vrijdag
ORGANIZER;CN="Claudette Paelinck":MAILTO:info@detafelderlagelanden.nl
END:VEVENT
BEGIN:VEVENT
DTSTART;TZID=Europe/Paris:20240524T183000
DTEND;TZID=Europe/Paris:20240524T220000
DTSTAMP:20260424T183521
CREATED:20240304T140609Z
LAST-MODIFIED:20240510T162114Z
UID:2205-1716575400-1716588000@www.detafelderlagelanden.nl
SUMMARY:Tafel op Vrijdag
DESCRIPTION:
URL:https://www.detafelderlagelanden.nl/events/tafel-op-vrijdag-6/
LOCATION:De Tafel der Lage Landen\, Drentsestraat 107\, 3812 EH Amersfoort\, Let op! Drentsestraat is vergunningparkeren!\, Netherlands
CATEGORIES:Tafel op Vrijdag
ORGANIZER;CN="Claudette Paelinck":MAILTO:info@detafelderlagelanden.nl
END:VEVENT
BEGIN:VEVENT
DTSTART;TZID=Europe/Paris:20240531T183000
DTEND;TZID=Europe/Paris:20240531T183000
DTSTAMP:20260424T183521
CREATED:20240510T162249Z
LAST-MODIFIED:20240510T162249Z
UID:2370-1717180200-1717180200@www.detafelderlagelanden.nl
SUMMARY:Tafel op Vrijdag
DESCRIPTION:
URL:https://www.detafelderlagelanden.nl/events/tafel-op-vrijdag-7/
LOCATION:De Tafel der Lage Landen\, Drentsestraat 107\, 3812 EH Amersfoort\, Let op! Drentsestraat is vergunningparkeren!\, Netherlands
CATEGORIES:Tafel op Vrijdag
ORGANIZER;CN="Claudette Paelinck":MAILTO:info@detafelderlagelanden.nl
END:VEVENT
BEGIN:VEVENT
DTSTART;TZID=Europe/Paris:20240614T183000
DTEND;TZID=Europe/Paris:20240614T220000
DTSTAMP:20260424T183521
CREATED:20240304T141301Z
LAST-MODIFIED:20240304T141301Z
UID:2212-1718389800-1718402400@www.detafelderlagelanden.nl
SUMMARY:Tafel op Vrijdag
DESCRIPTION:
URL:https://www.detafelderlagelanden.nl/events/tafel-op-vrijdag-8/
LOCATION:De Tafel der Lage Landen\, Drentsestraat 107\, 3812 EH Amersfoort\, Let op! Drentsestraat is vergunningparkeren!\, Netherlands
CATEGORIES:Tafel op Vrijdag
ORGANIZER;CN="Claudette Paelinck":MAILTO:info@detafelderlagelanden.nl
END:VEVENT
BEGIN:VEVENT
DTSTART;TZID=Europe/Paris:20240621T183000
DTEND;TZID=Europe/Paris:20240621T220000
DTSTAMP:20260424T183521
CREATED:20240304T141419Z
LAST-MODIFIED:20240920T114949Z
UID:2214-1718994600-1719007200@www.detafelderlagelanden.nl
SUMMARY:Tafel op Vrijdag
DESCRIPTION:
URL:https://www.detafelderlagelanden.nl/events/tafel-op-vrijdag-9/
LOCATION:De Tafel der Lage Landen\, Drentsestraat 107\, 3812 EH Amersfoort\, Let op! Drentsestraat is vergunningparkeren!\, Netherlands
CATEGORIES:Tafel op Vrijdag
ORGANIZER;CN="Claudette Paelinck":MAILTO:info@detafelderlagelanden.nl
END:VEVENT
BEGIN:VEVENT
DTSTART;TZID=Europe/Paris:20240913T183000
DTEND;TZID=Europe/Paris:20240913T220000
DTSTAMP:20260424T183521
CREATED:20240911T113500Z
LAST-MODIFIED:20240920T115032Z
UID:2436-1726252200-1726264800@www.detafelderlagelanden.nl
SUMMARY:Tafel op Vrijdag
DESCRIPTION:
URL:https://www.detafelderlagelanden.nl/events/tafel-op-vrijdag-10/
LOCATION:De Tafel der Lage Landen\, Drentsestraat 107\, 3812 EH Amersfoort\, Let op! Drentsestraat is vergunningparkeren!\, Netherlands
CATEGORIES:Tafel op Vrijdag
ORGANIZER;CN="Claudette Paelinck":MAILTO:info@detafelderlagelanden.nl
END:VEVENT
BEGIN:VEVENT
DTSTART;TZID=Europe/Paris:20240920T180000
DTEND;TZID=Europe/Paris:20240920T220000
DTSTAMP:20260424T183521
CREATED:20240920T120224Z
LAST-MODIFIED:20240920T120224Z
UID:2439-1726855200-1726869600@www.detafelderlagelanden.nl
SUMMARY:Tafel op Vrijdag
DESCRIPTION:
URL:https://www.detafelderlagelanden.nl/events/tafel-op-vrijdag-11/
LOCATION:De Tafel der Lage Landen\, Drentsestraat 107\, 3812 EH Amersfoort\, Let op! Drentsestraat is vergunningparkeren!\, Netherlands
CATEGORIES:Tafel op Vrijdag
ORGANIZER;CN="Claudette Paelinck":MAILTO:info@detafelderlagelanden.nl
END:VEVENT
BEGIN:VEVENT
DTSTART;TZID=Europe/Paris:20240927T180000
DTEND;TZID=Europe/Paris:20240927T220000
DTSTAMP:20260424T183521
CREATED:20240920T120413Z
LAST-MODIFIED:20240920T120413Z
UID:2441-1727460000-1727474400@www.detafelderlagelanden.nl
SUMMARY:Tafel op Vrijdag
DESCRIPTION:
URL:https://www.detafelderlagelanden.nl/events/tafel-op-vrijdag-12/
LOCATION:De Tafel der Lage Landen\, Drentsestraat 107\, 3812 EH Amersfoort\, Let op! Drentsestraat is vergunningparkeren!\, Netherlands
CATEGORIES:Tafel op Vrijdag
ORGANIZER;CN="Claudette Paelinck":MAILTO:info@detafelderlagelanden.nl
END:VEVENT
BEGIN:VEVENT
DTSTART;TZID=Europe/Paris:20241004T180000
DTEND;TZID=Europe/Paris:20241004T220000
DTSTAMP:20260424T183521
CREATED:20240920T120529Z
LAST-MODIFIED:20240920T120529Z
UID:2443-1728064800-1728079200@www.detafelderlagelanden.nl
SUMMARY:Tafel op Vrijdag
DESCRIPTION:
URL:https://www.detafelderlagelanden.nl/events/tafel-op-vrijdag-13/
LOCATION:De Tafel der Lage Landen\, Drentsestraat 107\, 3812 EH Amersfoort\, Let op! Drentsestraat is vergunningparkeren!\, Netherlands
CATEGORIES:Tafel op Vrijdag
ORGANIZER;CN="Claudette Paelinck":MAILTO:info@detafelderlagelanden.nl
END:VEVENT
BEGIN:VEVENT
DTSTART;TZID=Europe/Paris:20241011T180000
DTEND;TZID=Europe/Paris:20241011T220000
DTSTAMP:20260424T183521
CREATED:20240920T120805Z
LAST-MODIFIED:20240920T120805Z
UID:2445-1728669600-1728684000@www.detafelderlagelanden.nl
SUMMARY:Tafel op Vrijdag
DESCRIPTION:
URL:https://www.detafelderlagelanden.nl/events/tafel-op-vrijdag-14/
LOCATION:De Tafel der Lage Landen\, Drentsestraat 107\, 3812 EH Amersfoort\, Let op! Drentsestraat is vergunningparkeren!\, Netherlands
CATEGORIES:Tafel op Vrijdag
ORGANIZER;CN="Claudette Paelinck":MAILTO:info@detafelderlagelanden.nl
END:VEVENT
BEGIN:VEVENT
DTSTART;TZID=Europe/Paris:20241101T180000
DTEND;TZID=Europe/Paris:20241101T220000
DTSTAMP:20260424T183521
CREATED:20240920T132247Z
LAST-MODIFIED:20240920T132247Z
UID:2460-1730484000-1730498400@www.detafelderlagelanden.nl
SUMMARY:Tafel op Vrijdag
DESCRIPTION:
URL:https://www.detafelderlagelanden.nl/events/tafel-op-vrijdag-17/
LOCATION:De Tafel der Lage Landen\, Drentsestraat 107\, 3812 EH Amersfoort\, Let op! Drentsestraat is vergunningparkeren!\, Netherlands
CATEGORIES:Tafel op Vrijdag
ORGANIZER;CN="Claudette Paelinck":MAILTO:info@detafelderlagelanden.nl
END:VEVENT
BEGIN:VEVENT
DTSTART;TZID=Europe/Paris:20241115T180000
DTEND;TZID=Europe/Paris:20241115T220000
DTSTAMP:20260424T183521
CREATED:20240920T120943Z
LAST-MODIFIED:20240920T120943Z
UID:2448-1731693600-1731708000@www.detafelderlagelanden.nl
SUMMARY:Tafel op Vrijdag
DESCRIPTION:
URL:https://www.detafelderlagelanden.nl/events/tafel-op-vrijdag-15/
LOCATION:De Tafel der Lage Landen\, Drentsestraat 107\, 3812 EH Amersfoort\, Let op! Drentsestraat is vergunningparkeren!\, Netherlands
CATEGORIES:Tafel op Vrijdag
ORGANIZER;CN="Claudette Paelinck":MAILTO:info@detafelderlagelanden.nl
END:VEVENT
BEGIN:VEVENT
DTSTART;TZID=Europe/Paris:20241122T180000
DTEND;TZID=Europe/Paris:20241122T220000
DTSTAMP:20260424T183521
CREATED:20240920T121044Z
LAST-MODIFIED:20240920T121044Z
UID:2450-1732298400-1732312800@www.detafelderlagelanden.nl
SUMMARY:Tafel op Vrijdag
DESCRIPTION:
URL:https://www.detafelderlagelanden.nl/events/tafel-op-vrijdag-16/
LOCATION:De Tafel der Lage Landen\, Drentsestraat 107\, 3812 EH Amersfoort\, Let op! Drentsestraat is vergunningparkeren!\, Netherlands
CATEGORIES:Tafel op Vrijdag
ORGANIZER;CN="Claudette Paelinck":MAILTO:info@detafelderlagelanden.nl
END:VEVENT
BEGIN:VEVENT
DTSTART;TZID=Europe/Paris:20250117T183000
DTEND;TZID=Europe/Paris:20250117T220000
DTSTAMP:20260424T183521
CREATED:20250108T162026Z
LAST-MODIFIED:20250108T170247Z
UID:2597-1737138600-1737151200@www.detafelderlagelanden.nl
SUMMARY:Tafel op Vrijdag
DESCRIPTION:
URL:https://www.detafelderlagelanden.nl/events/tafel-op-vrijdag-18/
LOCATION:De Tafel der Lage Landen\, Drentsestraat 107\, 3812 EH Amersfoort\, Let op! Drentsestraat is vergunningparkeren!\, Netherlands
CATEGORIES:Tafel op Vrijdag
ORGANIZER;CN="Claudette Paelinck":MAILTO:info@detafelderlagelanden.nl
END:VEVENT
BEGIN:VEVENT
DTSTART;TZID=Europe/Paris:20250131T183000
DTEND;TZID=Europe/Paris:20250131T220000
DTSTAMP:20260424T183521
CREATED:20250108T162132Z
LAST-MODIFIED:20250124T101909Z
UID:2599-1738348200-1738360800@www.detafelderlagelanden.nl
SUMMARY:Tafel op Vrijdag (vol)
DESCRIPTION:
URL:https://www.detafelderlagelanden.nl/events/tafel-op-vrijdag-19/
LOCATION:De Tafel der Lage Landen\, Drentsestraat 107\, 3812 EH Amersfoort\, Let op! Drentsestraat is vergunningparkeren!\, Netherlands
CATEGORIES:Tafel op Vrijdag
ORGANIZER;CN="Claudette Paelinck":MAILTO:info@detafelderlagelanden.nl
END:VEVENT
BEGIN:VEVENT
DTSTART;TZID=Europe/Paris:20250307T183000
DTEND;TZID=Europe/Paris:20250307T220000
DTSTAMP:20260424T183521
CREATED:20250108T162346Z
LAST-MODIFIED:20250114T134620Z
UID:2601-1741372200-1741384800@www.detafelderlagelanden.nl
SUMMARY:Tafel op Vrijdag (vol)
DESCRIPTION:
URL:https://www.detafelderlagelanden.nl/events/tafel-p-vrijdag/
LOCATION:De Tafel der Lage Landen\, Drentsestraat 107\, 3812 EH Amersfoort\, Let op! Drentsestraat is vergunningparkeren!\, Netherlands
CATEGORIES:Tafel op Vrijdag
ORGANIZER;CN="Claudette Paelinck":MAILTO:info@detafelderlagelanden.nl
END:VEVENT
BEGIN:VEVENT
DTSTART;TZID=Europe/Paris:20250314T183000
DTEND;TZID=Europe/Paris:20250314T220000
DTSTAMP:20260424T183521
CREATED:20250108T162454Z
LAST-MODIFIED:20250108T172408Z
UID:2603-1741977000-1741989600@www.detafelderlagelanden.nl
SUMMARY:Tafel op Vrijdag
DESCRIPTION:
URL:https://www.detafelderlagelanden.nl/events/tafel-op-vrijdag-20/
LOCATION:De Tafel der Lage Landen\, Drentsestraat 107\, 3812 EH Amersfoort\, Let op! Drentsestraat is vergunningparkeren!\, Netherlands
CATEGORIES:Tafel op Vrijdag
ORGANIZER;CN="Claudette Paelinck":MAILTO:info@detafelderlagelanden.nl
END:VEVENT
BEGIN:VEVENT
DTSTART;TZID=Europe/Paris:20250321T183000
DTEND;TZID=Europe/Paris:20250321T220000
DTSTAMP:20260424T183521
CREATED:20250108T162729Z
LAST-MODIFIED:20250108T172511Z
UID:2606-1742581800-1742594400@www.detafelderlagelanden.nl
SUMMARY:Tafel op Vrijdag
DESCRIPTION:
URL:https://www.detafelderlagelanden.nl/events/tafel-op-vrijdag-21/
LOCATION:De Tafel der Lage Landen\, Drentsestraat 107\, 3812 EH Amersfoort\, Let op! Drentsestraat is vergunningparkeren!\, Netherlands
CATEGORIES:Tafel op Vrijdag
ORGANIZER;CN="Claudette Paelinck":MAILTO:info@detafelderlagelanden.nl
END:VEVENT
BEGIN:VEVENT
DTSTART;TZID=Europe/Paris:20250328T183000
DTEND;TZID=Europe/Paris:20250328T220000
DTSTAMP:20260424T183521
CREATED:20250108T162834Z
LAST-MODIFIED:20250108T172538Z
UID:2608-1743186600-1743199200@www.detafelderlagelanden.nl
SUMMARY:Tafel op Vrijdag
DESCRIPTION:
URL:https://www.detafelderlagelanden.nl/events/tafel-op-vrijdag-22/
LOCATION:De Tafel der Lage Landen\, Drentsestraat 107\, 3812 EH Amersfoort\, Let op! Drentsestraat is vergunningparkeren!\, Netherlands
CATEGORIES:Tafel op Vrijdag
ORGANIZER;CN="Claudette Paelinck":MAILTO:info@detafelderlagelanden.nl
END:VEVENT
BEGIN:VEVENT
DTSTART;TZID=Europe/Paris:20250425T080000
DTEND;TZID=Europe/Paris:20250425T170000
DTSTAMP:20260424T183521
CREATED:20250108T163146Z
LAST-MODIFIED:20250108T172740Z
UID:2611-1745568000-1745600400@www.detafelderlagelanden.nl
SUMMARY:Tafel op Vrijdag
DESCRIPTION:
URL:https://www.detafelderlagelanden.nl/events/tafel-op-vrijdag-23/
LOCATION:De Tafel der Lage Landen\, Drentsestraat 107\, 3812 EH Amersfoort\, Let op! Drentsestraat is vergunningparkeren!\, Netherlands
CATEGORIES:Tafel op Vrijdag
ORGANIZER;CN="Claudette Paelinck":MAILTO:info@detafelderlagelanden.nl
END:VEVENT
BEGIN:VEVENT
DTSTART;TZID=Europe/Paris:20250502T183000
DTEND;TZID=Europe/Paris:20250502T220000
DTSTAMP:20260424T183521
CREATED:20250108T163251Z
LAST-MODIFIED:20250108T172809Z
UID:2613-1746210600-1746223200@www.detafelderlagelanden.nl
SUMMARY:Tafel op Vrijdag
DESCRIPTION:
URL:https://www.detafelderlagelanden.nl/events/tafel-op-vrijdag-24/
LOCATION:De Tafel der Lage Landen\, Drentsestraat 107\, 3812 EH Amersfoort\, Let op! Drentsestraat is vergunningparkeren!\, Netherlands
CATEGORIES:Tafel op Vrijdag
ORGANIZER;CN="Claudette Paelinck":MAILTO:info@detafelderlagelanden.nl
END:VEVENT
BEGIN:VEVENT
DTSTART;TZID=Europe/Paris:20250516T183000
DTEND;TZID=Europe/Paris:20250516T220000
DTSTAMP:20260424T183521
CREATED:20250108T163352Z
LAST-MODIFIED:20250513T173147Z
UID:2615-1747420200-1747432800@www.detafelderlagelanden.nl
SUMMARY:Tafel op Vrijdag (vol)
DESCRIPTION:
URL:https://www.detafelderlagelanden.nl/events/tafel-op-vrijdag-25/
LOCATION:De Tafel der Lage Landen\, Drentsestraat 107\, 3812 EH Amersfoort\, Let op! Drentsestraat is vergunningparkeren!\, Netherlands
CATEGORIES:Tafel op Vrijdag
ORGANIZER;CN="Claudette Paelinck":MAILTO:info@detafelderlagelanden.nl
END:VEVENT
BEGIN:VEVENT
DTSTART;TZID=Europe/Paris:20250523T183000
DTEND;TZID=Europe/Paris:20250523T220000
DTSTAMP:20260424T183521
CREATED:20250108T163441Z
LAST-MODIFIED:20250108T173025Z
UID:2617-1748025000-1748037600@www.detafelderlagelanden.nl
SUMMARY:Tafel op Vrijdag
DESCRIPTION:
URL:https://www.detafelderlagelanden.nl/events/tafel-op-vrijdag-26/
LOCATION:De Tafel der Lage Landen\, Drentsestraat 107\, 3812 EH Amersfoort\, Let op! Drentsestraat is vergunningparkeren!\, Netherlands
CATEGORIES:Tafel op Vrijdag
ORGANIZER;CN="Claudette Paelinck":MAILTO:info@detafelderlagelanden.nl
END:VEVENT
BEGIN:VEVENT
DTSTART;TZID=Europe/Paris:20250613T183000
DTEND;TZID=Europe/Paris:20250613T220000
DTSTAMP:20260424T183521
CREATED:20250108T163528Z
LAST-MODIFIED:20250609T081019Z
UID:2619-1749839400-1749852000@www.detafelderlagelanden.nl
SUMMARY:Tafel op Vrijdag (de laatste in Nederland)
DESCRIPTION:
URL:https://www.detafelderlagelanden.nl/events/tafel-op-vrijdag-27/
LOCATION:De Tafel der Lage Landen\, Drentsestraat 107\, 3812 EH Amersfoort\, Let op! Drentsestraat is vergunningparkeren!\, Netherlands
CATEGORIES:Tafel op Vrijdag
ORGANIZER;CN="Claudette Paelinck":MAILTO:info@detafelderlagelanden.nl
END:VEVENT
BEGIN:VEVENT
DTSTART;TZID=Europe/Paris:20250620T080000
DTEND;TZID=Europe/Paris:20250620T170000
DTSTAMP:20260424T183521
CREATED:20250108T163608Z
LAST-MODIFIED:20250426T094616Z
UID:2621-1750406400-1750438800@www.detafelderlagelanden.nl
SUMMARY:Tafel op Vrijdag (Vol)
DESCRIPTION:
URL:https://www.detafelderlagelanden.nl/events/tafel-op-vrijdag-28/
LOCATION:De Tafel der Lage Landen\, Drentsestraat 107\, 3812 EH Amersfoort\, Let op! Drentsestraat is vergunningparkeren!\, Netherlands
CATEGORIES:Tafel op Vrijdag
ORGANIZER;CN="Claudette Paelinck":MAILTO:info@detafelderlagelanden.nl
END:VEVENT
END:VCALENDAR